{
 "currentVersion": 10.81,
 "serviceDescription": "1% flood depth data were downloaded from FEMA's Map Service Center (https://msc.fema.gov/portal/home), projected to 102747, and resampled. \n\nFor more information, review the FEMA Flood Risk Database Technical Reference (available at https://www.fema.gov/guidelines-and-standards-flood-risk-analysis-and-mapping and on the FEMA Risk MAP Knowledge Sharing Site)",
 "name": "Floodplains/Depth_01pct",
 "description": "1% flood depth data were downloaded from FEMA's Map Service Center (https://msc.fema.gov/portal/home), projected to 102747, and resampled. \n\nFor more information, review the FEMA Flood Risk Database Technical Reference (available at https://www.fema.gov/guidelines-and-standards-flood-risk-analysis-and-mapping and on the FEMA Risk MAP Knowledge Sharing Site)",
 "extent": {
  "xmin": 1.0989847819013035E7,
  "ymin": 3220084.5280849114,
  "xmax": 1.2497548215679701E7,
  "ymax": 4547824.654751578,
  "spatialReference": {
   "wkt": "PROJCS[\"NAD_1983_StatePlane_Virginia_South_FIPS_4502_Feet\",GEOGCS[\"GCS_North_American_1983\",DATUM[\"D_North_American_1983\",SPHEROID[\"GRS_1980\",6378137.0,298.257222101]],PRIMEM[\"Greenwich\",0.0],UNIT[\"Degree\",0.0174532925199433]],PROJECTION[\"Lambert_Conformal_Conic\"],PARAMETER[\"False_Easting\",11482916.667],PARAMETER[\"False_Northing\",3280833.333],PARAMETER[\"Central_Meridian\",-78.5],PARAMETER[\"Standard_Parallel_1\",36.7666666666667],PARAMETER[\"Standard_Parallel_2\",37.9666666666667],PARAMETER[\"Latitude_Of_Origin\",36.3333333333333],UNIT[\"Foot_US\",0.3048006096012192]]"
  }
 },
 "initialExtent": {
  "xmin": 1.0989847819013035E7,
  "ymin": 3220084.5280849114,
  "xmax": 1.2497548215679701E7,
  "ymax": 4547824.654751578,
  "spatialReference": {
   "wkt": "PROJCS[\"NAD_1983_StatePlane_Virginia_South_FIPS_4502_Feet\",GEOGCS[\"GCS_North_American_1983\",DATUM[\"D_North_American_1983\",SPHEROID[\"GRS_1980\",6378137.0,298.257222101]],PRIMEM[\"Greenwich\",0.0],UNIT[\"Degree\",0.0174532925199433]],PROJECTION[\"Lambert_Conformal_Conic\"],PARAMETER[\"False_Easting\",11482916.667],PARAMETER[\"False_Northing\",3280833.333],PARAMETER[\"Central_Meridian\",-78.5],PARAMETER[\"Standard_Parallel_1\",36.7666666666667],PARAMETER[\"Standard_Parallel_2\",37.9666666666667],PARAMETER[\"Latitude_Of_Origin\",36.3333333333333],UNIT[\"Foot_US\",0.3048006096012192]]"
  }
 },
 "fullExtent": {
  "xmin": 1.0989847819013035E7,
  "ymin": 3220084.5280849114,
  "xmax": 1.2497548215679701E7,
  "ymax": 4547824.654751578,
  "spatialReference": {
   "wkt": "PROJCS[\"NAD_1983_StatePlane_Virginia_South_FIPS_4502_Feet\",GEOGCS[\"GCS_North_American_1983\",DATUM[\"D_North_American_1983\",SPHEROID[\"GRS_1980\",6378137.0,298.257222101]],PRIMEM[\"Greenwich\",0.0],UNIT[\"Degree\",0.0174532925199433]],PROJECTION[\"Lambert_Conformal_Conic\"],PARAMETER[\"False_Easting\",11482916.667],PARAMETER[\"False_Northing\",3280833.333],PARAMETER[\"Central_Meridian\",-78.5],PARAMETER[\"Standard_Parallel_1\",36.7666666666667],PARAMETER[\"Standard_Parallel_2\",37.9666666666667],PARAMETER[\"Latitude_Of_Origin\",36.3333333333333],UNIT[\"Foot_US\",0.3048006096012192]]"
  }
 },
 "pixelSizeX": 6.561666666666666,
 "pixelSizeY": 6.561666666666668,
 "bandCount": 1,
 "pixelType": "F32",
 "minPixelSize": 0,
 "maxPixelSize": 0,
 "copyrightText": "",
 "serviceDataType": "esriImageServiceDataTypeGeneric",
 "minValues": [],
 "maxValues": [],
 "meanValues": [],
 "stdvValues": [],
 "objectIdField": "",
 "fields": [],
 "capabilities": "Mensuration,Image,Metadata",
 "defaultMosaicMethod": "Center",
 "allowedMosaicMethods": "",
 "sortField": "",
 "sortValue": null,
 "sortAscending": true,
 "mosaicOperator": "First",
 "defaultCompressionQuality": 75,
 "defaultResamplingMethod": "Bilinear",
 "maxImageHeight": 4100,
 "maxImageWidth": 15000,
 "allowRasterFunction": true,
 "rasterFunctionInfos": [
  {
   "name": "None",
   "description": "",
   "help": ""
  }
 ],
 "rasterTypeInfos": [
  {
   "name": "Raster Dataset",
   "description": "Supports all ArcGIS Raster Datasets",
   "help": ""
  }
 ],
 "mensurationCapabilities": "Basic",
 "hasHistograms": false,
 "hasColormap": false,
 "hasRasterAttributeTable": false,
 "minScale": 0,
 "maxScale": 0,
 "exportTilesAllowed": false,
 "hasMultidimensions": false,
 "supportsStatistics": false,
 "supportsAdvancedQueries": false,
 "editFieldsInfo": null,
 "ownershipBasedAccessControlForRasters": null,
 "allowComputeTiePoints": false,
 "useStandardizedQueries": true,
 "advancedQueryCapabilities": {
  "useStandardizedQueries": true,
  "supportsStatistics": false,
  "supportsOrderBy": false,
  "supportsDistinct": false,
  "supportsPagination": false
 },
 "spatialReference": {
  "wkt": "PROJCS[\"NAD_1983_StatePlane_Virginia_South_FIPS_4502_Feet\",GEOGCS[\"GCS_North_American_1983\",DATUM[\"D_North_American_1983\",SPHEROID[\"GRS_1980\",6378137.0,298.257222101]],PRIMEM[\"Greenwich\",0.0],UNIT[\"Degree\",0.0174532925199433]],PROJECTION[\"Lambert_Conformal_Conic\"],PARAMETER[\"False_Easting\",11482916.667],PARAMETER[\"False_Northing\",3280833.333],PARAMETER[\"Central_Meridian\",-78.5],PARAMETER[\"Standard_Parallel_1\",36.7666666666667],PARAMETER[\"Standard_Parallel_2\",37.9666666666667],PARAMETER[\"Latitude_Of_Origin\",36.3333333333333],UNIT[\"Foot_US\",0.3048006096012192]]"
 }
}
