{
 "currentVersion": 10.81,
 "serviceDescription": "GRAD_2020_137",
 "name": "GRAD_2020_137",
 "description": "",
 "extent": {
  "xmin": 12176000,
  "ymin": 3568000,
  "xmax": 12231000,
  "ymax": 3623000,
  "spatialReference": {
   "wkt": "PROJCS[\"Lambert_Conformal_Conic_2SP\",GEOGCS[\"GCS_unknown\",DATUM[\"D_Unknown_based_on_GRS80_ellipsoid\",SPHEROID[\"GRS_1980\",6378137.0,298.257222101]],PRIMEM[\"Greenwich\",0.0],UNIT[\"Degree\",0.0174532925199433]],PROJECTION[\"Lambert_Conformal_Conic\"],PARAMETER[\"false_easting\",11482916.667],PARAMETER[\"false_northing\",3280833.333],PARAMETER[\"central_meridian\",-78.5],PARAMETER[\"standard_parallel_1\",36.7666666666667],PARAMETER[\"standard_parallel_2\",37.9666666666667],PARAMETER[\"latitude_of_origin\",36.3333333333333],UNIT[\"Foot_US\",0.3048006096012192]]"
  }
 },
 "initialExtent": {
  "xmin": 12176000,
  "ymin": 3568000,
  "xmax": 12231000,
  "ymax": 3623000,
  "spatialReference": {
   "wkt": "PROJCS[\"Lambert_Conformal_Conic_2SP\",GEOGCS[\"GCS_unknown\",DATUM[\"D_Unknown_based_on_GRS80_ellipsoid\",SPHEROID[\"GRS_1980\",6378137.0,298.257222101]],PRIMEM[\"Greenwich\",0.0],UNIT[\"Degree\",0.0174532925199433]],PROJECTION[\"Lambert_Conformal_Conic\"],PARAMETER[\"false_easting\",11482916.667],PARAMETER[\"false_northing\",3280833.333],PARAMETER[\"central_meridian\",-78.5],PARAMETER[\"standard_parallel_1\",36.7666666666667],PARAMETER[\"standard_parallel_2\",37.9666666666667],PARAMETER[\"latitude_of_origin\",36.3333333333333],UNIT[\"Foot_US\",0.3048006096012192]]"
  }
 },
 "fullExtent": {
  "xmin": 12176000,
  "ymin": 3568000,
  "xmax": 12231000,
  "ymax": 3623000,
  "spatialReference": {
   "wkt": "PROJCS[\"Lambert_Conformal_Conic_2SP\",GEOGCS[\"GCS_unknown\",DATUM[\"D_Unknown_based_on_GRS80_ellipsoid\",SPHEROID[\"GRS_1980\",6378137.0,298.257222101]],PRIMEM[\"Greenwich\",0.0],UNIT[\"Degree\",0.0174532925199433]],PROJECTION[\"Lambert_Conformal_Conic\"],PARAMETER[\"false_easting\",11482916.667],PARAMETER[\"false_northing\",3280833.333],PARAMETER[\"central_meridian\",-78.5],PARAMETER[\"standard_parallel_1\",36.7666666666667],PARAMETER[\"standard_parallel_2\",37.9666666666667],PARAMETER[\"latitude_of_origin\",36.3333333333333],UNIT[\"Foot_US\",0.3048006096012192]]"
  }
 },
 "pixelSizeX": 10,
 "pixelSizeY": 10,
 "datasetFormat": "TIFF",
 "uncompressedSize": 60500000,
 "blockWidth": 256,
 "blockHeight": 256,
 "compressionType": "DEFLATE",
 "bandNames": [
  "Band_1"
 ],
 "allowCopy": true,
 "allowAnalysis": true,
 "bandCount": 1,
 "noDataValue": 0,
 "noDataValues": [
  0
 ],
 "pixelType": "U16",
 "minPixelSize": 0,
 "maxPixelSize": 0,
 "copyrightText": "",
 "serviceDataType": "esriImageServiceDataTypeGeneric",
 "serviceSourceType": "esriImageServiceSourceTypeDataset",
 "minValues": [],
 "maxValues": [],
 "meanValues": [],
 "stdvValues": [],
 "objectIdField": "",
 "fields": [],
 "capabilities": "Image,Metadata,Mensuration",
 "defaultMosaicMethod": "Center",
 "allowedMosaicMethods": "",
 "sortField": "",
 "sortValue": null,
 "sortAscending": true,
 "mosaicOperator": "First",
 "defaultCompressionQuality": 75,
 "defaultResamplingMethod": "Bilinear",
 "maxImageHeight": 4100,
 "maxImageWidth": 15000,
 "allowRasterFunction": true,
 "rasterFunctionInfos": [
  {
   "name": "None",
   "description": "",
   "help": ""
  }
 ],
 "rasterTypeInfos": [
  {
   "name": "Raster Dataset",
   "description": "Supports all ArcGIS Raster Datasets",
   "help": ""
  }
 ],
 "mensurationCapabilities": "Basic",
 "hasHistograms": false,
 "hasColormap": false,
 "hasRasterAttributeTable": false,
 "minScale": 0,
 "maxScale": 0,
 "exportTilesAllowed": false,
 "hasMultidimensions": false,
 "supportsStatistics": false,
 "supportsAdvancedQueries": false,
 "editFieldsInfo": null,
 "ownershipBasedAccessControlForRasters": null,
 "allowComputeTiePoints": false,
 "useStandardizedQueries": true,
 "advancedQueryCapabilities": {
  "useStandardizedQueries": true,
  "supportsStatistics": false,
  "supportsOrderBy": false,
  "supportsDistinct": false,
  "supportsPagination": false
 },
 "spatialReference": {
  "wkt": "PROJCS[\"Lambert_Conformal_Conic_2SP\",GEOGCS[\"GCS_unknown\",DATUM[\"D_Unknown_based_on_GRS80_ellipsoid\",SPHEROID[\"GRS_1980\",6378137.0,298.257222101]],PRIMEM[\"Greenwich\",0.0],UNIT[\"Degree\",0.0174532925199433]],PROJECTION[\"Lambert_Conformal_Conic\"],PARAMETER[\"false_easting\",11482916.667],PARAMETER[\"false_northing\",3280833.333],PARAMETER[\"central_meridian\",-78.5],PARAMETER[\"standard_parallel_1\",36.7666666666667],PARAMETER[\"standard_parallel_2\",37.9666666666667],PARAMETER[\"latitude_of_origin\",36.3333333333333],UNIT[\"Foot_US\",0.3048006096012192]]"
 }
}
