View In:
ArcGIS JavaScript
ArcGIS Online Map Viewer
ArcGIS Earth
ArcMap
View Footprint In:
ArcGIS Online Map Viewer
Service Description: 1% flood depth data were downloaded from FEMA's Map Service Center (https://msc.fema.gov/portal/home), projected to 102747, and resampled. For more information, review the FEMA Flood Risk Database Technical Reference (available at https://www.fema.gov/guidelines-and-standards-flood-risk-analysis-and-mapping and on the FEMA Risk MAP Knowledge Sharing Site)
Name: Floodplains/Depth_01pct
Description: 1% flood depth data were downloaded from FEMA's Map Service Center (https://msc.fema.gov/portal/home), projected to 102747, and resampled. For more information, review the FEMA Flood Risk Database Technical Reference (available at https://www.fema.gov/guidelines-and-standards-flood-risk-analysis-and-mapping and on the FEMA Risk MAP Knowledge Sharing Site)
Single Fused Map Cache: false
Extent:
XMin: 1.0989847819013035E7
YMin: 3220084.5280849114
XMax: 1.2497548215679701E7
YMax: 4547824.654751578
Spatial Reference: PROJCS["NAD_1983_StatePlane_Virginia_South_FIPS_4502_Feet",GEOGCS["GCS_North_American_1983",DATUM["D_North_American_1983",SPHEROID["GRS_1980",6378137.0,298.257222101]],PRIMEM["Greenwich",0.0],UNIT["Degree",0.0174532925199433]],PROJECTION["Lambert_Conformal_Conic"],PARAMETER["False_Easting",11482916.667],PARAMETER["False_Northing",3280833.333],PARAMETER["Central_Meridian",-78.5],PARAMETER["Standard_Parallel_1",36.7666666666667],PARAMETER["Standard_Parallel_2",37.9666666666667],PARAMETER["Latitude_Of_Origin",36.3333333333333],UNIT["Foot_US",0.3048006096012192]]
Initial Extent:
XMin: 1.0989847819013035E7
YMin: 3220084.5280849114
XMax: 1.2497548215679701E7
YMax: 4547824.654751578
Spatial Reference: PROJCS["NAD_1983_StatePlane_Virginia_South_FIPS_4502_Feet",GEOGCS["GCS_North_American_1983",DATUM["D_North_American_1983",SPHEROID["GRS_1980",6378137.0,298.257222101]],PRIMEM["Greenwich",0.0],UNIT["Degree",0.0174532925199433]],PROJECTION["Lambert_Conformal_Conic"],PARAMETER["False_Easting",11482916.667],PARAMETER["False_Northing",3280833.333],PARAMETER["Central_Meridian",-78.5],PARAMETER["Standard_Parallel_1",36.7666666666667],PARAMETER["Standard_Parallel_2",37.9666666666667],PARAMETER["Latitude_Of_Origin",36.3333333333333],UNIT["Foot_US",0.3048006096012192]]
Full Extent:
XMin: 1.0989847819013035E7
YMin: 3220084.5280849114
XMax: 1.2497548215679701E7
YMax: 4547824.654751578
Spatial Reference: PROJCS["NAD_1983_StatePlane_Virginia_South_FIPS_4502_Feet",GEOGCS["GCS_North_American_1983",DATUM["D_North_American_1983",SPHEROID["GRS_1980",6378137.0,298.257222101]],PRIMEM["Greenwich",0.0],UNIT["Degree",0.0174532925199433]],PROJECTION["Lambert_Conformal_Conic"],PARAMETER["False_Easting",11482916.667],PARAMETER["False_Northing",3280833.333],PARAMETER["Central_Meridian",-78.5],PARAMETER["Standard_Parallel_1",36.7666666666667],PARAMETER["Standard_Parallel_2",37.9666666666667],PARAMETER["Latitude_Of_Origin",36.3333333333333],UNIT["Foot_US",0.3048006096012192]]
Pixel Size X: 6.561666666666666
Pixel Size Y: 6.561666666666668
Band Count: 1
Pixel Type: F32
RasterFunction Infos: {"rasterFunctionInfos": [{
"name": "None",
"description": "",
"help": ""
}]}
Mensuration Capabilities: Basic
Has Histograms: false
Has Colormap: false
Has Multi Dimensions : false
Rendering Rule:
Min Scale: 0
Max Scale: 0
Copyright Text:
Service Data Type: esriImageServiceDataTypeGeneric
Min Values: N/A
Max Values: N/A
Mean Values: N/A
Standard Deviation Values: N/A
Object ID Field:
Fields:
None
Default Mosaic Method: Center
Allowed Mosaic Methods:
SortField:
SortValue: null
Mosaic Operator: First
Default Compression Quality: 75
Default Resampling Method: Bilinear
Max Record Count: null
Max Image Height: 4100
Max Image Width: 15000
Max Download Image Count: null
Max Mosaic Image Count: null
Allow Raster Function: true
Allow Copy: null
Allow Analysis: null
Allow Compute TiePoints: false
Supports Statistics: false
Supports Advanced Queries: false
Use StandardizedQueries: true
Raster Type Infos:
Name: Raster Dataset
Description: Supports all ArcGIS Raster Datasets
Help:
Has Raster Attribute Table: false
Edit Fields Info: null
Ownership Based AccessControl For Rasters: null
Child Resources:
Info
Key Properties
Legend
Raster Function Infos
Supported Operations:
Export Image
Identify
Measure
Compute Histograms
Compute Statistics Histograms
Get Samples
Compute Class Statistics
Query Boundary
Compute Pixel Location
Validate
Project