View In:
ArcGIS JavaScript
ArcGIS Online Map Viewer
ArcGIS Earth
ArcMap
View Footprint In:
ArcGIS Online Map Viewer
Service Description: GRAD_2020_137
Name: GRAD_2020_137
Description:
Single Fused Map Cache: false
Extent:
XMin: 12176000
YMin: 3568000
XMax: 12231000
YMax: 3623000
Spatial Reference: PROJCS["Lambert_Conformal_Conic_2SP",GEOGCS["GCS_unknown",DATUM["D_Unknown_based_on_GRS80_ellipsoid",SPHEROID["GRS_1980",6378137.0,298.257222101]],PRIMEM["Greenwich",0.0],UNIT["Degree",0.0174532925199433]],PROJECTION["Lambert_Conformal_Conic"],PARAMETER["false_easting",11482916.667],PARAMETER["false_northing",3280833.333],PARAMETER["central_meridian",-78.5],PARAMETER["standard_parallel_1",36.7666666666667],PARAMETER["standard_parallel_2",37.9666666666667],PARAMETER["latitude_of_origin",36.3333333333333],UNIT["Foot_US",0.3048006096012192]]
Initial Extent:
XMin: 12176000
YMin: 3568000
XMax: 12231000
YMax: 3623000
Spatial Reference: PROJCS["Lambert_Conformal_Conic_2SP",GEOGCS["GCS_unknown",DATUM["D_Unknown_based_on_GRS80_ellipsoid",SPHEROID["GRS_1980",6378137.0,298.257222101]],PRIMEM["Greenwich",0.0],UNIT["Degree",0.0174532925199433]],PROJECTION["Lambert_Conformal_Conic"],PARAMETER["false_easting",11482916.667],PARAMETER["false_northing",3280833.333],PARAMETER["central_meridian",-78.5],PARAMETER["standard_parallel_1",36.7666666666667],PARAMETER["standard_parallel_2",37.9666666666667],PARAMETER["latitude_of_origin",36.3333333333333],UNIT["Foot_US",0.3048006096012192]]
Full Extent:
XMin: 12176000
YMin: 3568000
XMax: 12231000
YMax: 3623000
Spatial Reference: PROJCS["Lambert_Conformal_Conic_2SP",GEOGCS["GCS_unknown",DATUM["D_Unknown_based_on_GRS80_ellipsoid",SPHEROID["GRS_1980",6378137.0,298.257222101]],PRIMEM["Greenwich",0.0],UNIT["Degree",0.0174532925199433]],PROJECTION["Lambert_Conformal_Conic"],PARAMETER["false_easting",11482916.667],PARAMETER["false_northing",3280833.333],PARAMETER["central_meridian",-78.5],PARAMETER["standard_parallel_1",36.7666666666667],PARAMETER["standard_parallel_2",37.9666666666667],PARAMETER["latitude_of_origin",36.3333333333333],UNIT["Foot_US",0.3048006096012192]]
Pixel Size X: 10.0
Pixel Size Y: 10.0
Band Count: 1
Pixel Type: U16
RasterFunction Infos: {"rasterFunctionInfos": [{
"name": "None",
"description": "",
"help": ""
}]}
Mensuration Capabilities: Basic
Has Histograms: false
Has Colormap: false
Has Multi Dimensions : false
Rendering Rule:
Min Scale: 0
Max Scale: 0
Copyright Text:
Service Data Type: esriImageServiceDataTypeGeneric
Min Values: N/A
Max Values: N/A
Mean Values: N/A
Standard Deviation Values: N/A
Object ID Field:
Fields:
None
Default Mosaic Method: Center
Allowed Mosaic Methods:
SortField:
SortValue: null
Mosaic Operator: First
Default Compression Quality: 75
Default Resampling Method: Bilinear
Max Record Count: null
Max Image Height: 4100
Max Image Width: 15000
Max Download Image Count: null
Max Mosaic Image Count: null
Allow Raster Function: true
Allow Copy: true
Allow Analysis: true
Allow Compute TiePoints: false
Supports Statistics: false
Supports Advanced Queries: false
Use StandardizedQueries: true
Raster Type Infos:
Name: Raster Dataset
Description: Supports all ArcGIS Raster Datasets
Help:
Has Raster Attribute Table: false
Edit Fields Info: null
Ownership Based AccessControl For Rasters: null
Child Resources:
Info
Statistics
Key Properties
Legend
Raster Function Infos
Supported Operations:
Export Image
Identify
Measure
Compute Histograms
Compute Statistics Histograms
Get Samples
Compute Class Statistics
Query Boundary
Compute Pixel Location
Validate
Project